BEGIN:VCALENDAR
VERSION:2.0
PRODID:-//Covered Bridges of New Hampshire - ECPv6.15.20//NONSGML v1.0//EN
CALSCALE:GREGORIAN
METHOD:PUBLISH
X-WR-CALNAME:Covered Bridges of New Hampshire
X-ORIGINAL-URL:https://coveredbridgesnh.com
X-WR-CALDESC:Events for Covered Bridges of New Hampshire
REFRESH-INTERVAL;VALUE=DURATION:PT1H
X-Robots-Tag:noindex
X-PUBLISHED-TTL:PT1H
BEGIN:VTIMEZONE
TZID:America/New_York
BEGIN:DAYLIGHT
TZOFFSETFROM:-0500
TZOFFSETTO:-0400
TZNAME:EDT
DTSTART:20220313T070000
END:DAYLIGHT
BEGIN:STANDARD
TZOFFSETFROM:-0400
TZOFFSETTO:-0500
TZNAME:EST
DTSTART:20221106T060000
END:STANDARD
BEGIN:DAYLIGHT
TZOFFSETFROM:-0500
TZOFFSETTO:-0400
TZNAME:EDT
DTSTART:20230312T070000
END:DAYLIGHT
BEGIN:STANDARD
TZOFFSETFROM:-0400
TZOFFSETTO:-0500
TZNAME:EST
DTSTART:20231105T060000
END:STANDARD
BEGIN:DAYLIGHT
TZOFFSETFROM:-0500
TZOFFSETTO:-0400
TZNAME:EDT
DTSTART:20240310T070000
END:DAYLIGHT
BEGIN:STANDARD
TZOFFSETFROM:-0400
TZOFFSETTO:-0500
TZNAME:EST
DTSTART:20241103T060000
END:STANDARD
END:VTIMEZONE
BEGIN:VEVENT
DTSTART;TZID=America/New_York:20230202T183000
DTEND;TZID=America/New_York:20230202T193000
DTSTAMP:20260425T113935
CREATED:20230120T151357Z
LAST-MODIFIED:20230120T151357Z
UID:1998-1675362600-1675366200@coveredbridgesnh.com
SUMMARY:Program - Covered Bridges of New Hampshire
DESCRIPTION:RESCHEDULED TO FEBRUARY 2\, 2023\nJoin Kim at Gibson’s Bookstore in Concord for a book discussion and signing.\nLearn about her journey to research covered bridges that took Kim all over the state to libraries\, historical societies\, and town and state offices\, where she poured through old documents looking for any tidbits of the history of these bridges.\nCovered Bridges of New Hampshire is an engaging and well-illustrated history of the covered bridges in New Hampshire\, featuring historical photos of each bridge paired with color images.\nCome hear all about it! \nhttps://www.gibsonsbookstore.com/event/covered-bridges-of-NH
URL:https://coveredbridgesnh.com/event/program-covered-bridges-of-new-hampshire-6/
LOCATION:Gibson’s Bookstore\, 45 South Main Street\, Concord\, NH\, 03301\, United States
ATTACH;FMTTYPE=image/jpeg:https://coveredbridgesnh.com/wp-content/uploads/2022/12/Gibsons-Feb.jpeg
END:VEVENT
BEGIN:VEVENT
DTSTART;TZID=America/New_York:20230221T073000
DTEND;TZID=America/New_York:20230221T080000
DTSTAMP:20260425T113935
CREATED:20230120T151749Z
LAST-MODIFIED:20230120T151749Z
UID:2001-1676964600-1676966400@coveredbridgesnh.com
SUMMARY:Program - Covered Bridges of New Hampshire
DESCRIPTION:New Hampshire is home to over sixty-one covered bridges\, 46 of which are over a century old. Join Kim as she presents an overview of the historic covered bridges in the Granite State and shares information on the Peterborough area covered bridges that have been lost to time.  Following the program\, Kim will be available to sign copies of Covered Bridges of New Hampshire. This is a private event hosted by the Grand Monadnock Rotary Club.
URL:https://coveredbridgesnh.com/event/program-covered-bridges-of-new-hampshire-7/
LOCATION:Private Event
ATTACH;FMTTYPE=image/png:https://coveredbridgesnh.com/wp-content/uploads/2023/01/Rotary.png
END:VEVENT
BEGIN:VEVENT
DTSTART;TZID=America/New_York:20230226T140000
DTEND;TZID=America/New_York:20230226T150000
DTSTAMP:20260425T113935
CREATED:20230201T224557Z
LAST-MODIFIED:20230201T224557Z
UID:2087-1677420000-1677423600@coveredbridgesnh.com
SUMMARY:Program - Covered Bridges of Lancaster\, Past & Present
DESCRIPTION:Join Kim as she presents an overview of the two historic covered bridges in Lancaster and shares information on the area covered bridges that have been lost to time. Following the program\, Kim will be available to sign copies of Covered Bridges of New Hampshire. This event is hosted by the Weeks Memorial Library and is open to the public.
URL:https://coveredbridgesnh.com/event/program-covered-bridges-of-lancaster-past-present/
LOCATION:Weeks Memorial Library\, 128 Main St\, Lancaster\, NH\, 03584
ATTACH;FMTTYPE=image/png:https://coveredbridgesnh.com/wp-content/uploads/2023/02/Weeks-Library.png
END:VEVENT
END:VCALENDAR