BEGIN:VCALENDAR
VERSION:2.0
PRODID:-//Covered Bridges of New Hampshire - ECPv6.15.20//NONSGML v1.0//EN
CALSCALE:GREGORIAN
METHOD:PUBLISH
X-WR-CALNAME:Covered Bridges of New Hampshire
X-ORIGINAL-URL:https://coveredbridgesnh.com
X-WR-CALDESC:Events for Covered Bridges of New Hampshire
REFRESH-INTERVAL;VALUE=DURATION:PT1H
X-Robots-Tag:noindex
X-PUBLISHED-TTL:PT1H
BEGIN:VTIMEZONE
TZID:America/New_York
BEGIN:DAYLIGHT
TZOFFSETFROM:-0500
TZOFFSETTO:-0400
TZNAME:EDT
DTSTART:20210314T070000
END:DAYLIGHT
BEGIN:STANDARD
TZOFFSETFROM:-0400
TZOFFSETTO:-0500
TZNAME:EST
DTSTART:20211107T060000
END:STANDARD
BEGIN:DAYLIGHT
TZOFFSETFROM:-0500
TZOFFSETTO:-0400
TZNAME:EDT
DTSTART:20220313T070000
END:DAYLIGHT
BEGIN:STANDARD
TZOFFSETFROM:-0400
TZOFFSETTO:-0500
TZNAME:EST
DTSTART:20221106T060000
END:STANDARD
BEGIN:DAYLIGHT
TZOFFSETFROM:-0500
TZOFFSETTO:-0400
TZNAME:EDT
DTSTART:20230312T070000
END:DAYLIGHT
BEGIN:STANDARD
TZOFFSETFROM:-0400
TZOFFSETTO:-0500
TZNAME:EST
DTSTART:20231105T060000
END:STANDARD
END:VTIMEZONE
BEGIN:VEVENT
DTSTART;TZID=America/New_York:20221203T110000
DTEND;TZID=America/New_York:20221203T120000
DTSTAMP:20260425T140235
CREATED:20221007T140618Z
LAST-MODIFIED:20221014T173825Z
UID:1435-1670065200-1670068800@coveredbridgesnh.com
SUMMARY:Program & Book Signing - Covered Bridges of New Hampshire
DESCRIPTION:The City of Rochester was once home to three covered bridges and there were at least eleven covered bridges in Strafford County. Join Kim as she talks about the history of these lost bridges and shares an overview of the remaining historic covered bridges in New Hampshire.  Following the program\, Kim will be available to sign copies of Covered Bridges of New Hampshire. This event is hosted by the Rochester Public Library and is open to the public.
URL:https://coveredbridgesnh.com/event/program-book-signing-at-the-rochester-public-library/
LOCATION:Rochester Public Library\, 65 S Main Street\, Rochester\, NH\, 03867\, United States
CATEGORIES:Book Signing,Program
ATTACH;FMTTYPE=image/png:https://coveredbridgesnh.com/wp-content/uploads/2022/10/RPL-Program.png
END:VEVENT
BEGIN:VEVENT
DTSTART;TZID=America/New_York:20221206T000000
DTEND;TZID=America/New_York:20221206T235959
DTSTAMP:20260425T140235
CREATED:20221014T000057Z
LAST-MODIFIED:20260411T192355Z
UID:1495-1670284800-1670371199@coveredbridgesnh.com
SUMMARY:Podcast Episode Eight - The Bath Bridge Rehabilitation with Sean James
DESCRIPTION:Kim interviews engineer Sean James\, Senior Vice President at Hoyle\, Tanner & Associates in Manchester\, about the 2014\, twenty-one-month-long rehabilitation of the Bath Bridge in Bath\, New Hampshire. Sean walks us through the process of carrying out a $2 million project on a 375’ covered bridge and shares some interesting stories he learned along the way.
URL:https://coveredbridgesnh.com/event/podcast-episode-eight-the-bath-bridge-rehabilitation-with-sean-james/
CATEGORIES:Podcast
ATTACH;FMTTYPE=image/jpeg:https://coveredbridgesnh.com/wp-content/uploads/2026/04/Bath-James-scaled.jpg
END:VEVENT
BEGIN:VEVENT
DTSTART;TZID=America/New_York:20221212T190000
DTEND;TZID=America/New_York:20221212T200000
DTSTAMP:20260425T140235
CREATED:20221020T184327Z
LAST-MODIFIED:20221211T212134Z
UID:1716-1670871600-1670875200@coveredbridgesnh.com
SUMMARY:Program - Covered Bridges of New Hampshire
DESCRIPTION:Kim will share historical information on the covered bridges surrounding the Amherst area\, past and present. Join Kim as she talks about the history of the lost bridges and shares an overview of the remaining historic covered bridges in New Hampshire.  Following the program\, Kim will be available to sign copies of Covered Bridges of New Hampshire.  This event is hosted by the Historical Society of Amherst and is open to the public; please register in advance.
URL:https://coveredbridgesnh.com/event/program-covered-bridges-of-new-hampshire/
LOCATION:Amherst Town Library\, 14 Main Street\, Amherst\, NH\, 03031\, United States
ATTACH;FMTTYPE=image/png:https://coveredbridgesnh.com/wp-content/uploads/2022/10/CBNH-Program-1.png
END:VEVENT
BEGIN:VEVENT
DTSTART;TZID=America/New_York:20221213T000000
DTEND;TZID=America/New_York:20221213T235959
DTSTAMP:20260425T140235
CREATED:20230120T154711Z
LAST-MODIFIED:20260411T192641Z
UID:2017-1670889600-1670975999@coveredbridgesnh.com
SUMMARY:Podcast Episode Nine- The Durgins of Sandwich with Jim Mykland
DESCRIPTION:Kim interviews Sandwich Historical Society Director Jim Mykland about the Durgin family of Sandwich and their namesake covered bridge. Learn about the Durgin’s influence on the political climate of Sandwich in the mid-nineteenth century as well as their role in the Underground Railroad.
URL:https://coveredbridgesnh.com/event/podcast-episode-nine-the-durgins-of-sandwich-with-jim-mykland/
CATEGORIES:Podcast
ATTACH;FMTTYPE=image/jpeg:https://coveredbridgesnh.com/wp-content/uploads/2026/04/Durgin-scaled.jpg
END:VEVENT
BEGIN:VEVENT
DTSTART;TZID=America/New_York:20221215T190000
DTEND;TZID=America/New_York:20221215T200000
DTSTAMP:20260425T140235
CREATED:20221014T170933Z
LAST-MODIFIED:20221014T230907Z
UID:1505-1671130800-1671134400@coveredbridgesnh.com
SUMMARY:Program - Covered Bridges near Hancock\, Past and Present
DESCRIPTION:Kim will share historical information on the covered bridges surrounding the Hancock area\, past and present. In addition to an in-depth history of the County Bridge\, Kim will share information on the lost covered bridges in Hancock\, Greenfield\, and Bennington.  Hosted by the Hancock Town Library.
URL:https://coveredbridgesnh.com/event/covered-bridges-near-hancock-past-and-present/
LOCATION:Hancock Library\, 25 Main St\, Hancock\, NH\, 03449\, United States
CATEGORIES:Program
ATTACH;FMTTYPE=image/png:https://coveredbridgesnh.com/wp-content/uploads/2022/10/Hancock-Program.png
END:VEVENT
BEGIN:VEVENT
DTSTART;VALUE=DATE:20221220
DTEND;VALUE=DATE:20221221
DTSTAMP:20260425T140235
CREATED:20230120T154804Z
LAST-MODIFIED:20230402T192829Z
UID:2019-1671494400-1671580799@coveredbridgesnh.com
SUMMARY:Podcast Episode Ten - The New Hampshire Preservation Alliance with Jennifer Goodman
DESCRIPTION:Kim interviews New Hampshire Preservation Alliance Executive Director Jennifer Goodman about historic preservation efforts in the state and their impact on saving covered bridges. Join us for a conversation about successful preservation efforts and how the Alliance celebrates this work.
URL:https://coveredbridgesnh.com/event/podcast-episode-ten-the-new-hampshire-preservation-alliance-with-jennifer-goodman-2/
CATEGORIES:Podcast
ATTACH;FMTTYPE=image/png:https://coveredbridgesnh.com/wp-content/uploads/2023/04/Podcast-NHPA.png
END:VEVENT
BEGIN:VEVENT
DTSTART;TZID=America/New_York:20221227T000000
DTEND;TZID=America/New_York:20221227T235959
DTSTAMP:20260425T140235
CREATED:20230120T154925Z
LAST-MODIFIED:20260411T192725Z
UID:2021-1672099200-1672185599@coveredbridgesnh.com
SUMMARY:Podcast Episode Eleven - The Covered Bridges of Plainfield & Cornish with Steve Taylor
DESCRIPTION:Kim talks with Steve Taylor of Plainfield about the importance of covered bridges in New Hampshire communities. Steve explains how a practical approach to bridge building has translated into part of our cultural cache and how important these covered bridges are not only to small towns but to the state as a whole.
URL:https://coveredbridgesnh.com/event/podcast-episode-eleven-the-covered-bridges-of-plainfield-cornish-with-steve-taylor-2/
CATEGORIES:Podcast
ATTACH;FMTTYPE=image/jpeg:https://coveredbridgesnh.com/wp-content/uploads/2026/04/Steve-scaled.jpg
END:VEVENT
BEGIN:VEVENT
DTSTART;TZID=America/New_York:20221229T130000
DTEND;TZID=America/New_York:20221229T140000
DTSTAMP:20260425T140235
CREATED:20230120T160738Z
LAST-MODIFIED:20230120T160738Z
UID:2028-1672318800-1672322400@coveredbridgesnh.com
SUMMARY:Program - Covered Bridges of the Monadnock Region
DESCRIPTION:Nestled in the southwest corner of the state\, the Monadnock Region is home to seven covered bridges. Kim will present the rich histories of Winchester’s two bridges\, the Ashuelot and the Coombs\, as well as Swanzey’s four covered bridges\, the Thompson\, Slate\, Carlton\, and Sawyer’s Crossing. This is a private event hosted by Monadnock at Home.
URL:https://coveredbridgesnh.com/event/program-covered-bridges-of-the-monadnock-region-3/
LOCATION:Private Event
CATEGORIES:Book Signing,Program
ATTACH;FMTTYPE=image/png:https://coveredbridgesnh.com/wp-content/uploads/2022/10/CB-of-Monadnock.png
END:VEVENT
END:VCALENDAR