BEGIN:VCALENDAR
VERSION:2.0
PRODID:-//Covered Bridges of New Hampshire - ECPv6.15.20//NONSGML v1.0//EN
CALSCALE:GREGORIAN
METHOD:PUBLISH
X-WR-CALNAME:Covered Bridges of New Hampshire
X-ORIGINAL-URL:https://coveredbridgesnh.com
X-WR-CALDESC:Events for Covered Bridges of New Hampshire
REFRESH-INTERVAL;VALUE=DURATION:PT1H
X-Robots-Tag:noindex
X-PUBLISHED-TTL:PT1H
BEGIN:VTIMEZONE
TZID:America/New_York
BEGIN:DAYLIGHT
TZOFFSETFROM:-0500
TZOFFSETTO:-0400
TZNAME:EDT
DTSTART:20220313T070000
END:DAYLIGHT
BEGIN:STANDARD
TZOFFSETFROM:-0400
TZOFFSETTO:-0500
TZNAME:EST
DTSTART:20221106T060000
END:STANDARD
BEGIN:DAYLIGHT
TZOFFSETFROM:-0500
TZOFFSETTO:-0400
TZNAME:EDT
DTSTART:20230312T070000
END:DAYLIGHT
BEGIN:STANDARD
TZOFFSETFROM:-0400
TZOFFSETTO:-0500
TZNAME:EST
DTSTART:20231105T060000
END:STANDARD
BEGIN:DAYLIGHT
TZOFFSETFROM:-0500
TZOFFSETTO:-0400
TZNAME:EDT
DTSTART:20240310T070000
END:DAYLIGHT
BEGIN:STANDARD
TZOFFSETFROM:-0400
TZOFFSETTO:-0500
TZNAME:EST
DTSTART:20241103T060000
END:STANDARD
END:VTIMEZONE
BEGIN:VEVENT
DTSTART;VALUE=DATE:20231024
DTEND;VALUE=DATE:20231025
DTSTAMP:20260424T112116
CREATED:20231011T123911Z
LAST-MODIFIED:20231011T123911Z
UID:2931-1698105600-1698191999@coveredbridgesnh.com
SUMMARY:Podcast Episode Eighteen - The Prodigal Son Denman Thompson with Lee Dunham
DESCRIPTION:Kim talks with lifelong Swanzey resident Lee Dunham about the namesake of the Thompson covered bridge. Lee walks us through the exciting life of actor and playwright Denman Thompson and his production\, The Old Homestead; and how integral the play has been to the town of Swanzey for over a hundred years.
URL:https://coveredbridgesnh.com/event/podcast-episode-eighteen-the-prodigal-son-denman-thompson-with-lee-dunham/
CATEGORIES:Podcast
ATTACH;FMTTYPE=image/png:https://coveredbridgesnh.com/wp-content/uploads/2023/10/Podcast-Thompson.png
END:VEVENT
END:VCALENDAR