BEGIN:VCALENDAR
VERSION:2.0
PRODID:-//Covered Bridges of New Hampshire - ECPv6.15.20//NONSGML v1.0//EN
CALSCALE:GREGORIAN
METHOD:PUBLISH
X-ORIGINAL-URL:https://coveredbridgesnh.com
X-WR-CALDESC:Events for Covered Bridges of New Hampshire
REFRESH-INTERVAL;VALUE=DURATION:PT1H
X-Robots-Tag:noindex
X-PUBLISHED-TTL:PT1H
BEGIN:VTIMEZONE
TZID:America/New_York
BEGIN:DAYLIGHT
TZOFFSETFROM:-0500
TZOFFSETTO:-0400
TZNAME:EDT
DTSTART:20220313T070000
END:DAYLIGHT
BEGIN:STANDARD
TZOFFSETFROM:-0400
TZOFFSETTO:-0500
TZNAME:EST
DTSTART:20221106T060000
END:STANDARD
BEGIN:DAYLIGHT
TZOFFSETFROM:-0500
TZOFFSETTO:-0400
TZNAME:EDT
DTSTART:20230312T070000
END:DAYLIGHT
BEGIN:STANDARD
TZOFFSETFROM:-0400
TZOFFSETTO:-0500
TZNAME:EST
DTSTART:20231105T060000
END:STANDARD
BEGIN:DAYLIGHT
TZOFFSETFROM:-0500
TZOFFSETTO:-0400
TZNAME:EDT
DTSTART:20240310T070000
END:DAYLIGHT
BEGIN:STANDARD
TZOFFSETFROM:-0400
TZOFFSETTO:-0500
TZNAME:EST
DTSTART:20241103T060000
END:STANDARD
END:VTIMEZONE
BEGIN:VEVENT
DTSTART;TZID=America/New_York:20230624T100000
DTEND;TZID=America/New_York:20230624T110000
DTSTAMP:20260425T072159
CREATED:20230606T004036Z
LAST-MODIFIED:20230606T004036Z
UID:2687-1687600800-1687604400@coveredbridgesnh.com
SUMMARY:Bridge Tour - Rowell Bridge
DESCRIPTION:West Hopkinton’s Rowell Bridge was built in 1853 by H. Childs & Co. Brothers Horace\, Enoch\, and Warren had a significant influence on covered bridge building in New Hampshire. Kim will share the rich history of the Rowell Bridge from its beginnings to the present day. \nThis program is a private event with a handful of advance registration spaces available. Email Kim for more information.
URL:https://coveredbridgesnh.com/event/bridge-tour-rowell-bridge/
LOCATION:Rowell Bridge
CATEGORIES:Bridge Tour
ATTACH;FMTTYPE=image/png:https://coveredbridgesnh.com/wp-content/uploads/2023/06/Rowell-Bridge-Tour.png
END:VEVENT
END:VCALENDAR