BEGIN:VCALENDAR
VERSION:2.0
PRODID:-//Covered Bridges of New Hampshire - ECPv6.15.20//NONSGML v1.0//EN
CALSCALE:GREGORIAN
METHOD:PUBLISH
X-WR-CALNAME:Covered Bridges of New Hampshire
X-ORIGINAL-URL:https://coveredbridgesnh.com
X-WR-CALDESC:Events for Covered Bridges of New Hampshire
REFRESH-INTERVAL;VALUE=DURATION:PT1H
X-Robots-Tag:noindex
X-PUBLISHED-TTL:PT1H
BEGIN:VTIMEZONE
TZID:America/New_York
BEGIN:DAYLIGHT
TZOFFSETFROM:-0500
TZOFFSETTO:-0400
TZNAME:EDT
DTSTART:20220313T070000
END:DAYLIGHT
BEGIN:STANDARD
TZOFFSETFROM:-0400
TZOFFSETTO:-0500
TZNAME:EST
DTSTART:20221106T060000
END:STANDARD
BEGIN:DAYLIGHT
TZOFFSETFROM:-0500
TZOFFSETTO:-0400
TZNAME:EDT
DTSTART:20230312T070000
END:DAYLIGHT
BEGIN:STANDARD
TZOFFSETFROM:-0400
TZOFFSETTO:-0500
TZNAME:EST
DTSTART:20231105T060000
END:STANDARD
BEGIN:DAYLIGHT
TZOFFSETFROM:-0500
TZOFFSETTO:-0400
TZNAME:EDT
DTSTART:20240310T070000
END:DAYLIGHT
BEGIN:STANDARD
TZOFFSETFROM:-0400
TZOFFSETTO:-0500
TZNAME:EST
DTSTART:20241103T060000
END:STANDARD
END:VTIMEZONE
BEGIN:VEVENT
DTSTART;VALUE=DATE:20230516
DTEND;VALUE=DATE:20230517
DTSTAMP:20260425T084142
CREATED:20230426T154725Z
LAST-MODIFIED:20230426T154725Z
UID:2600-1684195200-1684281599@coveredbridgesnh.com
SUMMARY:Podcast Episode Sixteen - The Poet John Greenleaf Whittier with Kaleigh Paré Shaughnessy
DESCRIPTION:Kim talks with Kaleigh Paré Shaughnessy\, Executive Director of the John Greenleaf Whittier Birthplace\, about the namesake of the Whittier Bridge in Ossipee. Kaleigh tells us the story of how a young Massachusetts poet transitioned from a fierce abolitionist to one of America’s most beloved fireside poets\, and how his name became attached to a New Hampshire covered bridge.
URL:https://coveredbridgesnh.com/event/podcast-episode-sixteen-the-poet-john-greenleaf-whittier-with-kaleigh-pare-shaughnessy/
CATEGORIES:Podcast
ATTACH;FMTTYPE=image/png:https://coveredbridgesnh.com/wp-content/uploads/2023/04/Podcast-Whittier-1.png
END:VEVENT
END:VCALENDAR