BEGIN:VCALENDAR
VERSION:2.0
PRODID:-//Covered Bridges of New Hampshire - ECPv6.15.20//NONSGML v1.0//EN
CALSCALE:GREGORIAN
METHOD:PUBLISH
X-WR-CALNAME:Covered Bridges of New Hampshire
X-ORIGINAL-URL:https://coveredbridgesnh.com
X-WR-CALDESC:Events for Covered Bridges of New Hampshire
REFRESH-INTERVAL;VALUE=DURATION:PT1H
X-Robots-Tag:noindex
X-PUBLISHED-TTL:PT1H
BEGIN:VTIMEZONE
TZID:America/New_York
BEGIN:DAYLIGHT
TZOFFSETFROM:-0500
TZOFFSETTO:-0400
TZNAME:EDT
DTSTART:20220313T070000
END:DAYLIGHT
BEGIN:STANDARD
TZOFFSETFROM:-0400
TZOFFSETTO:-0500
TZNAME:EST
DTSTART:20221106T060000
END:STANDARD
BEGIN:DAYLIGHT
TZOFFSETFROM:-0500
TZOFFSETTO:-0400
TZNAME:EDT
DTSTART:20230312T070000
END:DAYLIGHT
BEGIN:STANDARD
TZOFFSETFROM:-0400
TZOFFSETTO:-0500
TZNAME:EST
DTSTART:20231105T060000
END:STANDARD
BEGIN:DAYLIGHT
TZOFFSETFROM:-0500
TZOFFSETTO:-0400
TZNAME:EDT
DTSTART:20240310T070000
END:DAYLIGHT
BEGIN:STANDARD
TZOFFSETFROM:-0400
TZOFFSETTO:-0500
TZNAME:EST
DTSTART:20241103T060000
END:STANDARD
END:VTIMEZONE
BEGIN:VEVENT
DTSTART;VALUE=DATE:20230502
DTEND;VALUE=DATE:20230503
DTSTAMP:20260425T084122
CREATED:20230402T183551Z
LAST-MODIFIED:20230402T183551Z
UID:2520-1682985600-1683071999@coveredbridgesnh.com
SUMMARY:Podcast Episode Fourteen - The Langdon Covered Bridge Association with Marilyn Stuller
DESCRIPTION:Kim interviews  Marilyn Stuller of Langdon about her experience leading the fundraising efforts to save Langdon’s two historic covered bridges. Marilyn shares the story of the organic process that took fourteen years to complete and the value of preserving part of the tapestry of the greater Langdon community.
URL:https://coveredbridgesnh.com/event/podcast-episode-fourteen-the-langdon-covered-bridge-association-with-marilyn-stuller/
CATEGORIES:Podcast
ATTACH;FMTTYPE=image/png:https://coveredbridgesnh.com/wp-content/uploads/2023/04/Podcast-Langdon.png
END:VEVENT
END:VCALENDAR