BEGIN:VCALENDAR
VERSION:2.0
PRODID:-//Covered Bridges of New Hampshire - ECPv6.15.20//NONSGML v1.0//EN
CALSCALE:GREGORIAN
METHOD:PUBLISH
X-ORIGINAL-URL:https://coveredbridgesnh.com
X-WR-CALDESC:Events for Covered Bridges of New Hampshire
REFRESH-INTERVAL;VALUE=DURATION:PT1H
X-Robots-Tag:noindex
X-PUBLISHED-TTL:PT1H
BEGIN:VTIMEZONE
TZID:America/New_York
BEGIN:DAYLIGHT
TZOFFSETFROM:-0500
TZOFFSETTO:-0400
TZNAME:EDT
DTSTART:20210314T070000
END:DAYLIGHT
BEGIN:STANDARD
TZOFFSETFROM:-0400
TZOFFSETTO:-0500
TZNAME:EST
DTSTART:20211107T060000
END:STANDARD
BEGIN:DAYLIGHT
TZOFFSETFROM:-0500
TZOFFSETTO:-0400
TZNAME:EDT
DTSTART:20220313T070000
END:DAYLIGHT
BEGIN:STANDARD
TZOFFSETFROM:-0400
TZOFFSETTO:-0500
TZNAME:EST
DTSTART:20221106T060000
END:STANDARD
BEGIN:DAYLIGHT
TZOFFSETFROM:-0500
TZOFFSETTO:-0400
TZNAME:EDT
DTSTART:20230312T070000
END:DAYLIGHT
BEGIN:STANDARD
TZOFFSETFROM:-0400
TZOFFSETTO:-0500
TZNAME:EST
DTSTART:20231105T060000
END:STANDARD
END:VTIMEZONE
BEGIN:VEVENT
DTSTART;TZID=America/New_York:20221122T000000
DTEND;TZID=America/New_York:20221122T235959
DTSTAMP:20260425T165103
CREATED:20221013T235933Z
LAST-MODIFIED:20260411T192513Z
UID:1493-1669075200-1669161599@coveredbridgesnh.com
SUMMARY:Podcast Episode Six - The Paddleford Truss with Bob Durfee
DESCRIPTION:Kim interviews engineer Bob Durfee of DuBois & King about bridgewright Peter Paddleford and his unique truss design. Learn why even though it was never patented\, the Paddleford truss dominated covered bridge construction in northern New England for many years. Today there are only 22 Paddleford covered bridges left in New England.
URL:https://coveredbridgesnh.com/event/podcast-episode-six-the-paddleford-truss-with-bob-durfee/
CATEGORIES:Podcast
ATTACH;FMTTYPE=image/jpeg:https://coveredbridgesnh.com/wp-content/uploads/2026/04/Paddleford-scaled.jpg
END:VEVENT
END:VCALENDAR