BEGIN:VCALENDAR
VERSION:2.0
PRODID:-//Covered Bridges of New Hampshire - ECPv6.15.20//NONSGML v1.0//EN
CALSCALE:GREGORIAN
METHOD:PUBLISH
X-ORIGINAL-URL:https://coveredbridgesnh.com
X-WR-CALDESC:Events for Covered Bridges of New Hampshire
REFRESH-INTERVAL;VALUE=DURATION:PT1H
X-Robots-Tag:noindex
X-PUBLISHED-TTL:PT1H
BEGIN:VTIMEZONE
TZID:America/New_York
BEGIN:DAYLIGHT
TZOFFSETFROM:-0500
TZOFFSETTO:-0400
TZNAME:EDT
DTSTART:20210314T070000
END:DAYLIGHT
BEGIN:STANDARD
TZOFFSETFROM:-0400
TZOFFSETTO:-0500
TZNAME:EST
DTSTART:20211107T060000
END:STANDARD
BEGIN:DAYLIGHT
TZOFFSETFROM:-0500
TZOFFSETTO:-0400
TZNAME:EDT
DTSTART:20220313T070000
END:DAYLIGHT
BEGIN:STANDARD
TZOFFSETFROM:-0400
TZOFFSETTO:-0500
TZNAME:EST
DTSTART:20221106T060000
END:STANDARD
BEGIN:DAYLIGHT
TZOFFSETFROM:-0500
TZOFFSETTO:-0400
TZNAME:EDT
DTSTART:20230312T070000
END:DAYLIGHT
BEGIN:STANDARD
TZOFFSETFROM:-0400
TZOFFSETTO:-0500
TZNAME:EST
DTSTART:20231105T060000
END:STANDARD
END:VTIMEZONE
BEGIN:VEVENT
DTSTART;TZID=America/New_York:20221119T090000
DTEND;TZID=America/New_York:20221119T140000
DTSTAMP:20260425T165031
CREATED:20221014T231756Z
LAST-MODIFIED:20221104T235649Z
UID:1531-1668848400-1668866400@coveredbridgesnh.com
SUMMARY:Book Sales - ConVal Craft Fair
DESCRIPTION:Visit with Kim at the ConVal Regional High School Fall and Holiday Craft Fair on Saturday\, November 19\, 2022\, from 9 am to 2 pm.  Purchase signed copies of Covered Bridges of New Hampshire direct from the author as well as matted photographs and novelty items. \nThis event is a fundraiser for the ConVal Class of 2023 so be sure to come and support the craftspeople\, artists and artisans as well as the Senior Class.
URL:https://coveredbridgesnh.com/event/book-sales-conval-craft-fair/
LOCATION:ConVal High School\, 184 Hancock Road\, Peterborough\, NH\, 03864\, United States
CATEGORIES:Trade Show/Craft Fair
ATTACH;FMTTYPE=image/png:https://coveredbridgesnh.com/wp-content/uploads/2022/10/CVHS-Craft-Fair-Ad.png
END:VEVENT
END:VCALENDAR