BEGIN:VCALENDAR
VERSION:2.0
PRODID:-//Covered Bridges of New Hampshire - ECPv6.15.20//NONSGML v1.0//EN
CALSCALE:GREGORIAN
METHOD:PUBLISH
X-WR-CALNAME:Covered Bridges of New Hampshire
X-ORIGINAL-URL:https://coveredbridgesnh.com
X-WR-CALDESC:Events for Covered Bridges of New Hampshire
REFRESH-INTERVAL;VALUE=DURATION:PT1H
X-Robots-Tag:noindex
X-PUBLISHED-TTL:PT1H
BEGIN:VTIMEZONE
TZID:America/New_York
BEGIN:DAYLIGHT
TZOFFSETFROM:-0500
TZOFFSETTO:-0400
TZNAME:EDT
DTSTART:20210314T070000
END:DAYLIGHT
BEGIN:STANDARD
TZOFFSETFROM:-0400
TZOFFSETTO:-0500
TZNAME:EST
DTSTART:20211107T060000
END:STANDARD
BEGIN:DAYLIGHT
TZOFFSETFROM:-0500
TZOFFSETTO:-0400
TZNAME:EDT
DTSTART:20220313T070000
END:DAYLIGHT
BEGIN:STANDARD
TZOFFSETFROM:-0400
TZOFFSETTO:-0500
TZNAME:EST
DTSTART:20221106T060000
END:STANDARD
BEGIN:DAYLIGHT
TZOFFSETFROM:-0500
TZOFFSETTO:-0400
TZNAME:EDT
DTSTART:20230312T070000
END:DAYLIGHT
BEGIN:STANDARD
TZOFFSETFROM:-0400
TZOFFSETTO:-0500
TZNAME:EST
DTSTART:20231105T060000
END:STANDARD
END:VTIMEZONE
BEGIN:VEVENT
DTSTART;TZID=America/New_York:20221101T000000
DTEND;TZID=America/New_York:20221101T235959
DTSTAMP:20260425T164906
CREATED:20221013T235510Z
LAST-MODIFIED:20260411T192953Z
UID:1487-1667260800-1667347199@coveredbridgesnh.com
SUMMARY:Podcast Episode Three - The Town Truss with Sean James
DESCRIPTION:Kim interviews engineer Sean James\, Senior Vice President at Hoyle\, Tanner & Associates in Manchester about the Town Truss. This lattice truss design was first patented by Ithiel Town in 1820 and has since been regarded as one of the most significant developments in the history of covered bridges. Sean will explain why that is and tell us about some of New Hampshire’s Town Truss Bridges.
URL:https://coveredbridgesnh.com/event/podcast-episode-three-the-town-truss-with-sean-james/
CATEGORIES:Podcast
ATTACH;FMTTYPE=image/jpeg:https://coveredbridgesnh.com/wp-content/uploads/2026/04/Town-scaled.jpg
END:VEVENT
END:VCALENDAR