BEGIN:VCALENDAR
VERSION:2.0
PRODID:-//Covered Bridges of New Hampshire - ECPv6.15.20//NONSGML v1.0//EN
CALSCALE:GREGORIAN
METHOD:PUBLISH
X-WR-CALNAME:Covered Bridges of New Hampshire
X-ORIGINAL-URL:https://coveredbridgesnh.com
X-WR-CALDESC:Events for Covered Bridges of New Hampshire
REFRESH-INTERVAL;VALUE=DURATION:PT1H
X-Robots-Tag:noindex
X-PUBLISHED-TTL:PT1H
BEGIN:VTIMEZONE
TZID:America/New_York
BEGIN:DAYLIGHT
TZOFFSETFROM:-0500
TZOFFSETTO:-0400
TZNAME:EDT
DTSTART:20210314T070000
END:DAYLIGHT
BEGIN:STANDARD
TZOFFSETFROM:-0400
TZOFFSETTO:-0500
TZNAME:EST
DTSTART:20211107T060000
END:STANDARD
BEGIN:DAYLIGHT
TZOFFSETFROM:-0500
TZOFFSETTO:-0400
TZNAME:EDT
DTSTART:20220313T070000
END:DAYLIGHT
BEGIN:STANDARD
TZOFFSETFROM:-0400
TZOFFSETTO:-0500
TZNAME:EST
DTSTART:20221106T060000
END:STANDARD
BEGIN:DAYLIGHT
TZOFFSETFROM:-0500
TZOFFSETTO:-0400
TZNAME:EDT
DTSTART:20230312T070000
END:DAYLIGHT
BEGIN:STANDARD
TZOFFSETFROM:-0400
TZOFFSETTO:-0500
TZNAME:EST
DTSTART:20231105T060000
END:STANDARD
END:VTIMEZONE
BEGIN:VEVENT
DTSTART;TZID=America/New_York:20221029T110000
DTEND;TZID=America/New_York:20221029T120000
DTSTAMP:20260425T180911
CREATED:20220924T160632Z
LAST-MODIFIED:20230102T150248Z
UID:1392-1667041200-1667044800@coveredbridgesnh.com
SUMMARY:Book Signing - Toadstool Bookshop\, Peterborough
DESCRIPTION:Join Kim at her neighborhood bookstore\, the Toadstool Bookshop in Peterborough for a book discussion and signing. \nLearn about her journey to research covered bridges that took Kim all over the state to libraries\, historical societies\, and town and state offices\, where she poured through old documents looking for any tidbits of the history of these bridges. \nCovered Bridges of New Hampshire is an engaging and well-illustrated history of the covered bridges in New Hampshire\, featuring historical photos of each bridge paired with color images. \nCome hear all about it!
URL:https://coveredbridgesnh.com/event/book-signing-at-the-toadstool-bookshop-peterborough/
LOCATION:Toadstool Bookshop Peterborough\, 12 Depot Square\, Peterborough\, 03458\, United States
CATEGORIES:Book Signing
ATTACH;FMTTYPE=image/png:https://coveredbridgesnh.com/wp-content/uploads/2022/09/Book-Signing.png
END:VEVENT
END:VCALENDAR