BEGIN:VCALENDAR
VERSION:2.0
PRODID:-//Covered Bridges of New Hampshire - ECPv6.15.20//NONSGML v1.0//EN
CALSCALE:GREGORIAN
METHOD:PUBLISH
X-WR-CALNAME:Covered Bridges of New Hampshire
X-ORIGINAL-URL:https://coveredbridgesnh.com
X-WR-CALDESC:Events for Covered Bridges of New Hampshire
REFRESH-INTERVAL;VALUE=DURATION:PT1H
X-Robots-Tag:noindex
X-PUBLISHED-TTL:PT1H
BEGIN:VTIMEZONE
TZID:America/New_York
BEGIN:DAYLIGHT
TZOFFSETFROM:-0500
TZOFFSETTO:-0400
TZNAME:EDT
DTSTART:20210314T070000
END:DAYLIGHT
BEGIN:STANDARD
TZOFFSETFROM:-0400
TZOFFSETTO:-0500
TZNAME:EST
DTSTART:20211107T060000
END:STANDARD
BEGIN:DAYLIGHT
TZOFFSETFROM:-0500
TZOFFSETTO:-0400
TZNAME:EDT
DTSTART:20220313T070000
END:DAYLIGHT
BEGIN:STANDARD
TZOFFSETFROM:-0400
TZOFFSETTO:-0500
TZNAME:EST
DTSTART:20221106T060000
END:STANDARD
BEGIN:DAYLIGHT
TZOFFSETFROM:-0500
TZOFFSETTO:-0400
TZNAME:EDT
DTSTART:20230312T070000
END:DAYLIGHT
BEGIN:STANDARD
TZOFFSETFROM:-0400
TZOFFSETTO:-0500
TZNAME:EST
DTSTART:20231105T060000
END:STANDARD
END:VTIMEZONE
BEGIN:VEVENT
DTSTART;TZID=America/New_York:20221025T000000
DTEND;TZID=America/New_York:20221025T235959
DTSTAMP:20260425T181021
CREATED:20221013T235358Z
LAST-MODIFIED:20260411T192907Z
UID:1485-1666656000-1666742399@coveredbridgesnh.com
SUMMARY:Podcast Episode Two - The Bath Bridge with Craig Pursley
DESCRIPTION:Kim interviews artist Craig Pursley\, who lives and works on either side of the Bath Bridge in Bath\, New Hampshire. Craig serves as a docent of sorts of the second oldest covered bridge in the state and shares local folklore and history of the historic landmark.
URL:https://coveredbridgesnh.com/event/podcast-episode-two-the-bath-bridge-with-craig-pursley/
CATEGORIES:Podcast
ATTACH;FMTTYPE=image/jpeg:https://coveredbridgesnh.com/wp-content/uploads/2026/04/Bath-Craig-scaled.jpg
END:VEVENT
END:VCALENDAR